5.00000000000000
0.00000000000000
0.00000000000000
-5.00000000000000
683042.50000000000000
1899672.50000000000000
