5.00000000000000
0.00000000000000
0.00000000000000
-5.00000000000000
683052.50000000000000
1899677.50000000000000
